BEGIN:VCALENDAR
VERSION:2.0
PRODID:-//Cafe Carpe - ECPv6.15.17.1//NONSGML v1.0//EN
CALSCALE:GREGORIAN
METHOD:PUBLISH
X-WR-CALNAME:Cafe Carpe
X-ORIGINAL-URL:https://cafecarpe.com
X-WR-CALDESC:Events for Cafe Carpe
REFRESH-INTERVAL;VALUE=DURATION:PT1H
X-Robots-Tag:noindex
X-PUBLISHED-TTL:PT1H
BEGIN:VTIMEZONE
TZID:America/Chicago
BEGIN:DAYLIGHT
TZOFFSETFROM:-0600
TZOFFSETTO:-0500
TZNAME:CDT
DTSTART:20250309T080000
END:DAYLIGHT
BEGIN:STANDARD
TZOFFSETFROM:-0500
TZOFFSETTO:-0600
TZNAME:CST
DTSTART:20251102T070000
END:STANDARD
BEGIN:DAYLIGHT
TZOFFSETFROM:-0600
TZOFFSETTO:-0500
TZNAME:CDT
DTSTART:20260308T080000
END:DAYLIGHT
BEGIN:STANDARD
TZOFFSETFROM:-0500
TZOFFSETTO:-0600
TZNAME:CST
DTSTART:20261101T070000
END:STANDARD
BEGIN:DAYLIGHT
TZOFFSETFROM:-0600
TZOFFSETTO:-0500
TZNAME:CDT
DTSTART:20270314T080000
END:DAYLIGHT
BEGIN:STANDARD
TZOFFSETFROM:-0500
TZOFFSETTO:-0600
TZNAME:CST
DTSTART:20271107T070000
END:STANDARD
END:VTIMEZONE
BEGIN:VEVENT
DTSTART;TZID=America/Chicago:20260306T183000
DTEND;TZID=America/Chicago:20260306T203000
DTSTAMP:20260419T195307
CREATED:20260303T153653Z
LAST-MODIFIED:20260303T153653Z
UID:10600-1772821800-1772829000@cafecarpe.com
SUMMARY:ACOUSTIC OPEN STAGE
DESCRIPTION:This is an acoustic open stage\, sound system set up in advance\, just sit or stand up and play. \nShare your songs (or stories- storytellers welcome) in a two song (think 7-9 minutes) rotation with whoever else is there to play\, being respectful of others. \nPlease support our business by buying drink and/or food.
URL:https://cafecarpe.com/event/acoustic-open-stage-14/
END:VEVENT
BEGIN:VEVENT
DTSTART;TZID=America/Chicago:20260307T200000
DTEND;TZID=America/Chicago:20260307T200000
DTSTAMP:20260419T195307
CREATED:20260210T011323Z
LAST-MODIFIED:20260217T011808Z
UID:10521-1772913600-1772913600@cafecarpe.com
SUMMARY:LONESOME BILL CAMPLIN
DESCRIPTION:our very owner rides again \nPlease call 920-563-9391 to reserve seats and let us know if you will be dining here that evening
URL:https://cafecarpe.com/event/lonesome-bill-camplin-42/
END:VEVENT
BEGIN:VEVENT
DTSTART;TZID=America/Chicago:20260313T200000
DTEND;TZID=America/Chicago:20260313T200000
DTSTAMP:20260419T195307
CREATED:20260114T171246Z
LAST-MODIFIED:20260116T194821Z
UID:10438-1773432000-1773432000@cafecarpe.com
SUMMARY:ANNE HILLS
DESCRIPTION:“ANNE HILLS is such an exquisite singer that it’s understandable that people might be swept up in the pure beauty of her voice and thereby overlook her writing. That would be a mistake. For me\, Anne’s writing\, in songs like ‘Follow That Road’ and many others\, is as direct\, melodic and deep as any work being done today. She is quite simply one of my absolute favorite songwriters.”— Tom Paxton \n\n      \n        \n      \n    \nAnne is one of the most beloved voices of the contemporary folk music scene\, receiving awards and recognition for her live performances\, her unique solo and collaborative recording projects\, and her overall artistry and benefit work. Her song “Follow That Road” was the title cut of the Martha’s Vineyard Songwriter Retreat and has been a certified folk classic since the late 1990s. Whether she is singing her own songs\, the words of six-year-old Opal Whiteley\, or her song settings of the Hoosier poet James Whitcomb Riley; accompanied with her guitar\, banjo\, or simply a Tibetan bell\, she puts her whole heart and soul into the moment. You won’t want to miss a chance to hear her songs and stories in person. \nThe AllMusic Guide says\, “A stunning soprano tone has made Anne Hills one of contemporary music’s premiere vocalists … Her knack for writing heartfelt songs [has] brought her to the upper echelon of her craft.”
URL:https://cafecarpe.com/event/anne-hills-3/
END:VEVENT
BEGIN:VEVENT
DTSTART;TZID=America/Chicago:20260314T200000
DTEND;TZID=America/Chicago:20260314T200000
DTSTAMP:20260419T195307
CREATED:20251211T194236Z
LAST-MODIFIED:20260314T220101Z
UID:10376-1773518400-1773518400@cafecarpe.com
SUMMARY:SLIPJIG-  SOLD OUT
DESCRIPTION:Get a jump on St. Patrick’s Day without the drunks\, and come hear SLIPJIG play music of the Celtic nations\, featuring fiery dance tunes\, sweet airs & rich harmonies. \nRUTHIE MCQUINN  of The Krause Family Band\, The DangIts\, Darling Daughters\, and The Ramblin’ Kind on fiddle and vocals.
URL:https://cafecarpe.com/event/slipjig/
END:VEVENT
BEGIN:VEVENT
DTSTART;TZID=America/Chicago:20260320T200000
DTEND;TZID=America/Chicago:20260320T200000
DTSTAMP:20260419T195307
CREATED:20251208T210237Z
LAST-MODIFIED:20260111T202925Z
UID:10340-1774036800-1774036800@cafecarpe.com
SUMMARY:TIM GRIMM/Sergio Webb
DESCRIPTION:As always\, show will start a little later if we are not able to feed everyone by showtime. Be sure to come early if you are planning to eat here. \n\n      \n        \n      \n    \nTIM GRIMM is a bit of a Renaissance man in the performing arts world\, forging a rich and varied career that blends his love of songwriting\, travel\, and acting in theatre\, film and television. For most of his 25-year career as a storytelling balladeer in the tradition of John Prine\, Woody Guthrie\, and Bob Dylan\, Tim has written primarily about community\, history\, family\, and social issues – often framed by his strong sense of place and the many years he spent on the family farm he built in rural Indiana. His songs are filled with rural characters and landscapes\, written and sung with vivid warmth and intimacy. \nTim will be joined by respected sideman SERGIO WEBB .
URL:https://cafecarpe.com/event/tim-grimm-sergio-webb/
END:VEVENT
BEGIN:VEVENT
DTSTART;TZID=America/Chicago:20260321T200000
DTEND;TZID=America/Chicago:20260321T200000
DTSTAMP:20260419T195307
CREATED:20251009T140954Z
LAST-MODIFIED:20260321T191415Z
UID:10163-1774123200-1774123200@cafecarpe.com
SUMMARY:MY POLITIC
DESCRIPTION:Spring is here\, and MY POLITIC  (Kaston Guffey And Nick Pankey) brightens with their annual visit. \nGuffey and Pankey’s engaging slice-of-life storytelling\, expertly-crafted characters & sibling-like harmony\, shape a collection of songs that are as intimate and engaging as they are unforgettable. \n\n      \n        \n      \n    \nKaston & Nick grew up in the Ozarks & have been performing as My Politic for over 15 years. Across 10 releases\, their body of work consistently showcases engaging slice-of-life storytelling\, expertly crafted characters\, highly skilled acoustic instrumentation & sibling like harmonies. Most recently\, My Politic has joined other folk troubadours\, Adeem The Artist\, Margo Cilker & Jaimee Harris for tour stints through the midwest and south. They also made their Woody Guthrie Folk Festival debut in July of 2023 and has returned to Okemah OK every year since. \nThe duo released their latest album\, “Signs of Life” on May 23rd 2025 to critical acclaim. \nAmericana UK says.. “it’s an eye-opening record\, if only because it’s so deeply human and vulnerable. My Politic is still calling things like they see them.” 8/10 \nAmericana Highways had this to say: “Essentially\, it’s a gem of an album\, one that current fans of My Politic will most certainly love\, while also being a perfect introduction for those new to the duo.”  \n“My Politic has a style of intimate songwriting that is often reminiscent of the late great John Prine.” – Nashville Scene
URL:https://cafecarpe.com/event/my-politic-6/
END:VEVENT
BEGIN:VEVENT
DTSTART;TZID=America/Chicago:20260327T203000
DTEND;TZID=America/Chicago:20260327T203000
DTSTAMP:20260419T195307
CREATED:20260112T233847Z
LAST-MODIFIED:20260316T043811Z
UID:10419-1774643400-1774643400@cafecarpe.com
SUMMARY:LILLY HIATT
DESCRIPTION:The last few years have been a little hazy for LILLY HIATT\, who finds herself searching for answers on her striking new album\, Forever. Recorded at home with her husband\, Coley Hinson who produced and played most of the instruments\, Forever grapples with growth and change\, escape and anxiety\, self-loathing and self-love. The songs are intensely vulnerable\, full of diaristic snapshots and deeply personal ruminations\, but they’re also broad invitations to find yourself in their unflinching emotional excavations. The result is a raw\, unvarnished work of love and trust that walks the line between alt-rock muscle and singer/songwriter sensitivity\, a bold\, guitar-driven exploration of maturity and adulthood from an artist who wants you to know you’re not alone\, no matter how lost you may feel. \nLilly will appear here solo. \n\n      \n        \n      \n    \n\n\n\n\n\n\n\n\n\n\n\n\n\n\n\n\n\n\n\n\n\nBorn in Los Angeles and raised in Tennessee\, Hiatt first earned buzz with a pair of early solo records before breaking out with 2017’s Trinity Lane\, which helped earn dates with the likes of John Prine\, Margo Price\, Drive-By Truckers\, and Hiss Golden Messenger in addition to festival slots from Pilgrimage to Luck Reunion. NPR called the album “courageous and affecting\,” while Rolling Stone hailed it as “the most cohesive and declarative statement of the young songwriter’s career.” Hiatt returned in 2020 with the similarly well-received Walking Proof\, and in 2021 with Lately\, which The Boston Herald said showcased her “knack for plainspoken\, poetic lyrics” and Uncut proclaimed “captivating.” \n\n\n\n\n\n\n\n\n\n\n\n\n\n\n\n\n\n\n\n\n\n\n 
URL:https://cafecarpe.com/event/lilly-hiatt/
END:VEVENT
BEGIN:VEVENT
DTSTART;TZID=America/Chicago:20260328T200000
DTEND;TZID=America/Chicago:20260328T200000
DTSTAMP:20260419T195307
CREATED:20251215T230019Z
LAST-MODIFIED:20260316T044515Z
UID:10165-1774728000-1774728000@cafecarpe.com
SUMMARY:AMY SPEACE/ JOHN SMITH
DESCRIPTION:Two gifted songwriters Amy and John will share the evening. Ticket link follows bios. \nAMY SPEACE \nHeralded by Rolling Stone\, Billboard Magazine and The New York Times and featured on NPR’s “All Things Considered”\, Amy was discovered by Judy Collins\, who signed her to her record label and has recorded her songs. She’s the 2020 winner of the AMA UK’s International Song of the Year. Her newest record\, “The American Dream\,” was released October 18th and became the #1 record and the title track was named #1 song in the FAI Radio Charts for its first month out. Her song\, “The Weight of the World” was named the #4 record of last decade by WFUV\, NYC. As well\, her song\, “The Sea and the Shore” was named as one of the 100 best folk songs of the era. \nShe will be releasing a single of Woody Guthrie’s “Plane Wreck at Los Gatos” this summer accompanied by a video\, to help raise awareness for the ACLU. A writer’s writer\, her forthcoming debut collection of poetry will be published by Red Hen Press in Spring 2027. She holds an MFA in poetry from Spalding University and is a professor of creative writing at Cumberland University. This summer\, she published\, “To The Performer: A Singer-Songwriter’s Handbook” based on her 20 years of teaching performance. \n“Amy Speace is a wonderful artist\, a writer of songs\, a performer who has beauty and transformation in her music and her writing. Amy Speace was one of the first people that I chose to sign to my label\, Wildflower Records\, and her songs have transformed my audiences as well as transformed my life.”— Judy Collins \n“Amy Speace is on a roll. Each new release has brought an expansion of her voice and her art\, and she has reached the level of absolute mastery. Folk music doesn’t get any better than this.”— Mary Gauthier \nJOHNSMITH has been sharing his music all across America and abroad. He has become a favorite at festivals\, clubs\, and house concerts alike. In addition to being a Kerrville New Folk Winner\, Johnsmith has released nine solo CDs to rave reviews\, leads musical tours to Ireland\, leads Idaho rafting trips\, teaches songwriting\, and has served as a staff songwriter in Nashville.
URL:https://cafecarpe.com/event/amy-speace-john-smith/
END:VEVENT
END:VCALENDAR