BEGIN:VCALENDAR
VERSION:2.0
PRODID:-//Cafe Carpe - ECPv6.15.17.1//NONSGML v1.0//EN
CALSCALE:GREGORIAN
METHOD:PUBLISH
X-WR-CALNAME:Cafe Carpe
X-ORIGINAL-URL:https://cafecarpe.com
X-WR-CALDESC:Events for Cafe Carpe
REFRESH-INTERVAL;VALUE=DURATION:PT1H
X-Robots-Tag:noindex
X-PUBLISHED-TTL:PT1H
BEGIN:VTIMEZONE
TZID:America/Chicago
BEGIN:DAYLIGHT
TZOFFSETFROM:-0600
TZOFFSETTO:-0500
TZNAME:CDT
DTSTART:20150308T080000
END:DAYLIGHT
BEGIN:STANDARD
TZOFFSETFROM:-0500
TZOFFSETTO:-0600
TZNAME:CST
DTSTART:20151101T070000
END:STANDARD
BEGIN:DAYLIGHT
TZOFFSETFROM:-0600
TZOFFSETTO:-0500
TZNAME:CDT
DTSTART:20160313T080000
END:DAYLIGHT
BEGIN:STANDARD
TZOFFSETFROM:-0500
TZOFFSETTO:-0600
TZNAME:CST
DTSTART:20161106T070000
END:STANDARD
BEGIN:DAYLIGHT
TZOFFSETFROM:-0600
TZOFFSETTO:-0500
TZNAME:CDT
DTSTART:20170312T080000
END:DAYLIGHT
BEGIN:STANDARD
TZOFFSETFROM:-0500
TZOFFSETTO:-0600
TZNAME:CST
DTSTART:20171105T070000
END:STANDARD
END:VTIMEZONE
BEGIN:VEVENT
DTSTART;TZID=America/Chicago:20160701T200000
DTEND;TZID=America/Chicago:20160701T223000
DTSTAMP:20260422T232500
CREATED:20160326T164057Z
LAST-MODIFIED:20160326T164057Z
UID:2804-1467403200-1467412200@cafecarpe.com
SUMMARY:ADRIAN + MEREDITH
DESCRIPTION:ADRIAN + MEREDITH isn’t just another folk-duo traveling the country. They’re a dynamic\, hard-working tour-de-force\, ready to entertain anyone in their audience path\, making instant fans every show. They blend folk\, old-time\, post-punk\, pre-war jazz\, soul\, rock and roll\, country and acoustic music in the same set\, sometimes same song. Adrian’s twisted storylines drive home poignant stories that make you think about what you’re drinking\, while Meredith’s fiddle drives the mood. While Adrian plays clawhammer-guitar\, Meredith’s old-time and cajun fiddle\, and trad clogging treats you in new familiars. \nAdrian+Meredith will bring their Nashville-based band to Cafe Carpe\, consisting of Paul Niehaus (Justin Townes Earle\, Calexico)\, Aaron Distler (Heypenny)\, and The Nashville Horns\, bring high energy to the same rooted songs. They’ve gained attention of roots radio WDVX\, KDHX\, WERN\, WAMU\, KFAI\, WETS\, WFHB\, been repeats on national festivals Passim Campfire (MA)\, Mile of Music (WI)\, CBGB’s Fest (NY). They’ve been on the road with Pokey LaFarge\, and multiple shows with friends JD Wilkes & The Dirt Daubers\, Los Colognes\, Derek Hoke\, JP Harris\, The Oh Hello’s\, The Farewell Drifters\, many more. \nAs always\, please call to reserve.
URL:https://cafecarpe.com/event/adrian-meredith/
END:VEVENT
BEGIN:VEVENT
DTSTART;TZID=America/Chicago:20160702T203000
DTEND;TZID=America/Chicago:20160702T230000
DTSTAMP:20260422T232500
CREATED:20160602T121107Z
LAST-MODIFIED:20160609T225544Z
UID:2840-1467491400-1467500400@cafecarpe.com
SUMMARY:BILL CAMPLIN w/ RANDY SABIEN
DESCRIPTION:Celebrate your independence and ability to make wise music choices. \nBill Camplin has been an integral part of the Wisconsin acoustic music scene for many years both as a performer and as co-owner of the legendary Cafe Carpe in Fort Atkinson. Bill is a strong guitarist with a beautiful tenor voice and he is noted for penetrating\, intensely emotional performances of both his original songs and his interpretations of others such as Bob Dylan. \nDubbed “the past\, present and future of jazz violin” by NPR’s Jazz Profiles\, RANDY SABIEN is a regular at Big Top Chautauqua and has performed on A Prairie Home Companion and Austin City Limits.  His instrumental skill on the violin\, guitar\, mandolin\, and piano\, in the genres of jazz\, country\, and rock\, is legendary. \nPlease call to reserve.
URL:https://cafecarpe.com/event/bill-camplin-w-randy-sabien/
END:VEVENT
BEGIN:VEVENT
DTSTART;TZID=America/Chicago:20160708T203000
DTEND;TZID=America/Chicago:20160708T230000
DTSTAMP:20260422T232500
CREATED:20160326T164315Z
LAST-MODIFIED:20160609T225905Z
UID:2805-1468009800-1468018800@cafecarpe.com
SUMMARY:KATIE BURNS/ SATCHEL PAIGE
DESCRIPTION:KATIE BURNS  is an indie/folk singer songwriter based out of Mineral Point. Her band includes herself and guitar\, Eric Miller (Madison cellist) and Michael Sherry (Madison drummer). They play all originals. Her voice is ethereal and has a powerful effect on the listener. Her songwriting is said to capture moments in time. She has played all over the surrounding area in Opera Houses\, coffee houses\, galleries and wine bars. Her songs are featured on WPR’s 45 North\, Simply Folk and Hersong. She continues to work with well known indie musicians based out of Omaha Nebraska to record her cds. \nKatie is a mother of 3 and wife of a Wisconsin artisinal cheese maker. \nSATCHEL PAIGE will be performing with his friend DJ Scullin on guitar. \nPLEASE CALL TO RESERVE- 920-563-9391
URL:https://cafecarpe.com/event/katie-burns-satchel-paige/
END:VEVENT
BEGIN:VEVENT
DTSTART;TZID=America/Chicago:20160709T203000
DTEND;TZID=America/Chicago:20160709T230000
DTSTAMP:20260422T232500
CREATED:20160326T164443Z
LAST-MODIFIED:20160603T023009Z
UID:2806-1468096200-1468105200@cafecarpe.com
SUMMARY:BILL CAMPLIN BAND
DESCRIPTION:
URL:https://cafecarpe.com/event/bill-camplin-band-11/
END:VEVENT
BEGIN:VEVENT
DTSTART;TZID=America/Chicago:20160713T190000
DTEND;TZID=America/Chicago:20160713T220000
DTSTAMP:20260422T232500
CREATED:20160622T180827Z
LAST-MODIFIED:20160628T225912Z
UID:2863-1468436400-1468447200@cafecarpe.com
SUMMARY:JACK WILLIAMS
DESCRIPTION:It’s been a long time since JACK WILLIAMS played here\, but as indicated below\, it will be a pleasure to have him share his talents again. \nMusic legends Peter Yarrow (Peter\, Paul\, & Mary) and Tom Paxton lauded Williams as ‘the best guitar player I’ve ever heard’ and ‘one of my (Paxton) all-time favorite pickers.’ It is no cliché’ to say that his music defies genre labeling\, as his style has evolved from a lifetime of musical involvement ranging from beatnik trumpeter and folk revivalist banjo player to country\, rock and R & B electric and steel-guitar player and chamber music composer. \nWilliams spends the majority of his time touring the US\, playing major music festivals and venues\, which have included The Newport Folk Festival and Chicago’s Folkstage\, hosted by Rich Warren of NPR’s nationally syndicated show\, ‘The Midnight Special.’ \nOf him\, Warren says\, “his artistry… is nothing short of amazing. Dazzling picking\, expressive voice\, unique and interesting songs. He is a showman in the best sense of the word and just wowed our audience. I think they would have followed him anywhere.” From a recent performance at a popular Birmingham concert venue\, Moonlight on the Mountain\, proprietor Keith Harrelson said\, “Jack is a fearless singer\, inventive storyteller\, forceful-yet-delicate guitarist\, and holds near-legendary status as a modern-times troubadour…. precisely what kept him relevant to at least three generations of loyal fans.” \nThough sometimes thought of as a ‘singer-songwriter’\, audiences should not expect a night of quiet introspective ballads. Williams is known for his entertaining and high energy performances. He often concludes his shows with a unique finale\, a medley of songs and stories that span the varied styles and voices of his musical past\, keeping audiences enthralled from start to finish. \n“An adept acoustic guitarist and extremely capable in the vocal and songwriting departments…. Difficult to categorize\, Williams blends folk\, country\, jazz\, and blues in a somewhat gentler Ry Cooder manner…. It would be hard to value one album over the other; both are of high caliber… Possessing a clear tenor\,Williams showcases his fluid fingerpicking style on both discs… both albums are treats for the listener.  Jack Williams comprehends the potency of understatement and inhabits a world that may be less realistic but certainly kinder.” Pieter Hofmann\, DIRTY LINEN \n“…an American Treasure” – Mickey Newbury \n“…one of the strongest guitar players in contemporary folk.”  – Sing Out! \nIf there is anyone not familiar with Jack’s incredible songwriting and prodigious performance skills\, my sympathies to you. A Jack Williams show is a slam-dunk win-win-win for all. One of the most enlightened and entertaining performers I’ve ever encountered. – Dave Humpreys\, Two Way Street Coffeehouse in Downers Grove IL \n“…like a South Carolina version of an acoustic Bruce Springsteen with Jerry Garcia on acoustic lead guitar.”\nMike Agranoff – Folk Project and Minstrel Coffeehouse\, Morristown NJ \n“Jack Williams is one of the most eclectic singer songwriters going. You can hear both the white and black musical traditions in his writing. You can hear country\, you can hear blues\, you can hear jazz. He’s a poet who knows how to write simply. And he’s a remarkable\, magical performer\, with graceful good humor\, and a hot guitar style.”\n– Phil Shapiro\, host\, WVBR’s “Bound for Glory” \n*****Please call to reserve.
URL:https://cafecarpe.com/event/jack-williams/
END:VEVENT
BEGIN:VEVENT
DTSTART;TZID=America/Chicago:20160714T190000
DTEND;TZID=America/Chicago:20160714T213000
DTSTAMP:20260422T232500
CREATED:20160704T203421Z
LAST-MODIFIED:20160704T203627Z
UID:2876-1468522800-1468531800@cafecarpe.com
SUMMARY:NEW PIONEERS
DESCRIPTION:This five piece bluegrass ball of fire featuring vocals\, banjo\, fiddle\, guitar\, bass and mandolin appears here regularly on the 2nd Thursday of the month- except when they don’t.  Its various members have been involved with traditional music locally\, regionally\, and nationally for many years. \nThe Pioneer’s lead singer and guitarist\, Jerry Wicentowski\, has been described by country music historian Bill Malone as “One of the finest singers in bluegrass music”. Jerry has also performed and recorded with such bluegrass greats as Tim O’Brien\, Andy Statman\, Byron Berline\, Tony Trischka and others. Mike Schmidt of Spring Green\, Wisconsin\, is the group’s banjo player. This former French horn player has been a Nashville session musician and member of the popular Wisconsin-based bluegrass bands\, Alive ‘n’ Pickin’ and the Piper Road Spring Band. He also performs occasionally with his wife Lori. Bruce King of Art Stevenson and High Water – also formerly of Alive ‘n’ Pickin’ – is on mandolin. Bruce and Mike are veterans of the Great Northern Bluegrass Festival in Mole Lake\, WI – performing there every year from 1977 to 1982. Fiddle player Paul Kienitz is a member in good standing of regional bluegrass favorites\, The Nob Hill Boys. Bass player John Jirak also has played banjo with various folks in the northeastern WI and Madison areas\, most notably with the Green Bay based Fox River Flyer. As a bass player\, he’s performed shows with the Chicago Bluegrass Band\, Miltown Ramblers\, Krause Family\, Old Cool\, Spare Time Bluegrass Band\, Bob Steeno and The Old Truck\, and Down From the Hills\, and currently Madison’s newest\, Kettle Moraine. \nLike them on Facebook.
URL:https://cafecarpe.com/event/new-pioneers-31/
END:VEVENT
BEGIN:VEVENT
DTSTART;TZID=America/Chicago:20160715T203000
DTEND;TZID=America/Chicago:20160715T230000
DTSTAMP:20260422T232500
CREATED:20160325T141757Z
LAST-MODIFIED:20160609T225137Z
UID:2801-1468614600-1468623600@cafecarpe.com
SUMMARY:BILL STAINES
DESCRIPTION:Anyone not familiar with the music of Bill Staines is in for a special treat. \nSinging mostly his own songs\, he has become one of the most popular and durable singers on the folk music scene today\, performing nearly 200 concerts a year and driving over 65\,000 miles annually. He weaves a blend of gentle wit and humor into his performances and one reviewer wrote\, “He has a sense of timing to match the best standup comic.” \nBill’s music is a slice of Americana\, reflecting with the same ease his feelings about the prairie people of the Midwest or the adventurers of the Yukon\, the on-the-road truckers\, or the everyday workers that make up this land. \nMany of Bill’s songs have appeared in grade school music books\, church hymnals\, and scouting campfire songbooks; he is one of only a few songwriters to have eight songs published in the classic song collection\, Rise up Singing. Composer David Amram recently described Bill as “a modern day Stephen Foster…his songs will be around 100 years from now.” \nOver the decades\, you have heard Bill singing on Garrison Keillor’s A Prairie Home Companion\, HBO’s award winning series Deadwood\, and Public Radio’s Mountain Stage. Additionally\, his music has been used in a number of films including Off and Running\, with Cyndi Lauper\, and The Return of the Secaucus Seven\, John Sayles’ debut as a writer- director. \nIn 1975\, Bill won National Yodeling Championship in Kerrville Texas. Another important recognition was given to him in 2007. Presented by the Boston Area Coffeehouse Association\, The Jerry Christen Award recognized Bill’s contribution to New England folk music. \nCurrently\, Bill has recorded 26 albums; The Happy Wanderer and One More River were winners of the prestigious Parents’ Choice Award\, taking a gold medal and silver medal respectively. His songs have been recorded by many artists including Peter\, Paul\, and Mary\, Tommy Makem and Liam Clancy\, The Highwaymen\, Mason Williams\, Grandpa Jones\, Jerry Jeff Walker\, Nanci Griffith\, Glen Yarborough and others. \n“Folk music is rich in the human spirit and experience. I’ve always wanted to bring something of value to people through my songs.” With these thoughts\, Bill continues to drive the highways and back roads of the country year after year\, bringing his music to listeners\, young and old. \n“Bill Staines has been my hero since 1977. He carries on where Woody left off-carrying on the tradition of stories and characters you wish you knew.” – Nanci Griffith\n“Staines is one of the best songwriters in folk music today\, penning lyrics that evoke a sense of place and a generous spirit to go along with his pretty melodies. – Associated Press\n“Staines is one of folk music’s best songwriters and entertainers.” – Milwaukee Journal\n“There is no better writer of instantly memorable singalong choruses in this genre of music!” – The Boston Globe\n“His gentle lilting voice\, spacious melodies and common-chord lyrics give his songs a homespun grace that often belies his mastery of the folk form. He is such a pure pleasure too\, people forget to notice how damn good at the job of singer-songwritering he really is.” – New England Folk Almanac\n“Folk singer Bill Staines’ compositions recall the paintings of Grandma Moses – simple\, literal and evocative of a bucolic tranquility that modern times have almost erased.” – Hartford Courant \nPLEASE CALL TO RESERVE.
URL:https://cafecarpe.com/event/bill-staines-5/
END:VEVENT
BEGIN:VEVENT
DTSTART;TZID=America/Chicago:20160716T203000
DTEND;TZID=America/Chicago:20160716T230000
DTSTAMP:20260422T232500
CREATED:20160221T034420Z
LAST-MODIFIED:20160714T131334Z
UID:2760-1468701000-1468710000@cafecarpe.com
SUMMARY:HOWARD LEVY & CORKY SIEGEL- SOLD OUT
DESCRIPTION: Leave a note at the Discussion section at this link expressing your interest in tickets should any become available. \nCORKY SIEGEL and HOWARD LEVY:  A Harmonica Convergence of Two Giants of Jazz and Blues \nThe contrasting musical conversations between these two giants of jazz and blues\, both who are stellar performers on harmonica and piano\, has proven to be a riveting edge-of-your-seat experience. Individuality\, uniqueness\, playfulness and adventure\, are all trademarks of both the stylings of Siegel and Levy. They draw the audience in with an intimacy to their performance in a way that only old friends of several decades – with a special connection\, can. They constantly conjole with a grand sense of humor while dazzling you with sheer jaw-dropping skill and virtuosity.  \nCorky Siegel is\, of course\, the award-winning composer who\, at a very young age\, learned his craft at the feet of such legendary first generation bluesmen as Muddy Waters and Howlin’ Wolf and as a part of Siegel-Schwall Band. With his Chamber Blues ensemble\, he is credited with moving the blues from smokey clubs onto the classical concert stage and obliterating musical categorization in the process. \nHoward Levy is probably best known as a founding member of the GRAMMY winning group Bela Fleck and the Flecktones. He has recorded with a long list of greats such as Paul Simon and Dolly Parton\, as well as frequent guest appearances performing on Garrison Keillor’s A Prairie Home Companion’s weekly National Public Radio show. \nAny audience member who attended their last rare foray together can tell you this evening is definitely one not to be missed.
URL:https://cafecarpe.com/event/howard-levy-corky-siegel/
END:VEVENT
BEGIN:VEVENT
DTSTART;TZID=America/Chicago:20160721T190000
DTEND;TZID=America/Chicago:20160721T210000
DTSTAMP:20260422T232500
CREATED:20160621T230213Z
LAST-MODIFIED:20160621T230307Z
UID:2861-1469127600-1469134800@cafecarpe.com
SUMMARY:SONG CIRCLE w/ TRICIA ALEXANDER
DESCRIPTION:Round robin song circle led by TRICIA ALEXANDER– done informally\, not from the stage\, no microphones. This is a lovely gathering of singers\, songwriters\, musicians and music appreciators! \nTraditional Round Robin protocol applies – everyone is part of the circle and has an opportunity to: play\, pass or request a song from someone in particular or from anyone in the circle. \nEveryone is welcome to attend. $5 cover for musicians and audience. Come early and have a bite to eat- \n 
URL:https://cafecarpe.com/event/song-swap-w-tricia-alexander/
END:VEVENT
BEGIN:VEVENT
DTSTART;TZID=America/Chicago:20160722T203000
DTEND;TZID=America/Chicago:20160722T230000
DTSTAMP:20260422T232500
CREATED:20160328T213313Z
LAST-MODIFIED:20160719T200945Z
UID:2813-1469219400-1469228400@cafecarpe.com
SUMMARY:A ROSE AMONG THORNS
DESCRIPTION:Fort Atkinson’s own Perry Baird\, Tom Cook (TC) and Jeff Mason will be joined again by Fort violinist Erica Flyte on a number of songs. Perry and Tom are officially retired from their former day jobs\, and Jeff is about half-way there. They are all getting a little long in the tooth and slow off the couch\, but their fingers are almost as nimble as ever. The boys will wind their way through traditional folk and fiddle tunes (this time with Erica actually providing fiddle) and whatever else they can remember. Perry and Jeff play guitar(s) and Perry does most of the singing. TC seems to be bringing a collection of (mostly) four and eight-stringed wooden instruments and will be making his second sojourn onto the Carpe stage\, with some tasty instrumentals promised. Quite honestly\, the whole thing is a work-in-progress and the old geezers are just as anxious as anyone else to hear what happens\, particularly with the addition of Erica’s sweet violin to the mix. \nThey’ll wind their way through a mix of contemporary and traditional folk\, pop\, and blues tunes\, plus a few novelties of highly suspect origin. \nPlease call to reserve at 920-563-9391.
URL:https://cafecarpe.com/event/tom-cook-jeff-mason-perry-baird-plus-erica-flyte/
END:VEVENT
BEGIN:VEVENT
DTSTART;TZID=America/Chicago:20160723T200000
DTEND;TZID=America/Chicago:20160723T223000
DTSTAMP:20260422T232500
CREATED:20160326T164638Z
LAST-MODIFIED:20160719T200628Z
UID:2807-1469304000-1469313000@cafecarpe.com
SUMMARY:JIM & VIVIAN CRAIG and FRED CAMPEAU and MITCH THOMAS
DESCRIPTION:Mitch Thomas and Fred Campeau and Jim and Vivian Craig have put together an ukeclectic show that promises to bring a smile\, and maybe a tear or two. \nIn addition to their tight vocal blending\, the foursome stretch out with some instrumental surprises: Viv and Mitch on ukuleles\, Fred on guitar\, banjo\, and Hawaiian resonator guitar\, and Jim on concertina\, guitar\, and bass ukulele (yes\, you read that right). There’ll be old songs\, blue songs\, and some new songs\, written by Jim and Viv. \nFred Campeau and Mitch Thomas have been a team since the early 70’s\, when they met while both were performing around Chicago. Fred plays guitar\, banjo\, fiddle and harmonica\, and was a long-time member of the Volo Bogtrotters. In addition to playing guitar\, banjo and ukulele\, Mitch teaches choir\, theater and uke\, and is a two-time winner of the Wheatland Festival Folksinging Contest. \nJim and Vivian Craig have been harmonizing for almost forty years. When not loosely affiliated with Mitch and Fred\, Jim and Viv perform with Chicago-based Na Mele Aloha\, an Hawaiian music ensemble. \nAny of you who used to frequent the Green Dragon would have fond memories of them all. \nPlease call to reserve.
URL:https://cafecarpe.com/event/campeau-craig-2/
END:VEVENT
BEGIN:VEVENT
DTSTART;TZID=America/Chicago:20160729T203000
DTEND;TZID=America/Chicago:20160729T230000
DTSTAMP:20260422T232500
CREATED:20160630T030926Z
LAST-MODIFIED:20160707T033552Z
UID:2874-1469824200-1469833200@cafecarpe.com
SUMMARY:SIMON BALTO/ WHITNEY MANN
DESCRIPTION:Most people mention the voice first. It comes from deep within. Sounds like it means what it says. Then come the lyrics and the stories — ones about workers and lovers\, mothers and sons\, the dying and mourning\, the prideful and the abused. Ones about the Midwest and the beauty and difficulty that characterizes life around here. There is a humanity in the songs that recalls the work of some of the folk tradition’s finest architects.\nThe songs linger. Exhale. Persist. \nSIMON BALTO‘s work has garnered praise from critics both local\, regional\, national\, and international. The Irish music publication Deadly Music! has compared his songwriting to top-of-his-game\, Blood on the Tracks­-era Dylan. The Chicago-based music curator Music Means Family said the following: “An unbelievable talent\, his layered folk ballads are reminiscent of Baez and Dylan\, Guthrie and Prine. There is a deeply satisfying componentto each of his songs – a reminder of home\, woodsmoke\, and the first traces of your breath as winter begins to settle.” \nHe has been featured on Wisconsin Public Television\, Wisconsin Public Radio\, Big Top Chautauqua’s Tent Show Radio\, Daytrotter\, and has supported and shared stages with a wide range of artists in recent years\, from Jason Isbell to Johnnyswim\, Field Report to Anderson East\, Peter Mulvey to Communist Daughter\, Charlie Parr to Horseshoes & Hand Grenades. \nIn 2016\, he will release Murmurations\, a full-band record that features Shane Leonard (Kalispell\, Field Report)\, Ben Lester (S. Carey\, The Tallest Man on Earth\, Aero Flynn)\, Steven Hobert\, Kevin Rowe (Buffalo Gospel)\, and Amanda Rigell (Count This Penny). \nJoining Simon for the evening will be Madison singer-songwriter WHITNEY MANN. “Whitney Mann is the best kept secret in Wisconsin. She’s raw\, she’s real. Whitney sings and writes from the heart\, you can’t ask for more than that in a musician.”\n– John T Selman\, Production Manager\, Willie Nelson and Family   Whitney Mann is an old soul with a child’s glow. Her story is only beginning. It’s the story of a poetic farm girl from Michigan who grew up to open for Loretta Lynn. It’s the story of a young woman whose voice will break your heart but whose songs will bring you back for more.
URL:https://cafecarpe.com/event/simon-balto-2/
END:VEVENT
BEGIN:VEVENT
DTSTART;TZID=America/Chicago:20160730T203000
DTEND;TZID=America/Chicago:20160730T230000
DTSTAMP:20260422T232500
CREATED:20160615T203811Z
LAST-MODIFIED:20160722T114917Z
UID:2858-1469910600-1469919600@cafecarpe.com
SUMMARY:MATTHEW FRANCIS ANDERSEN/ JOSH HARTY
DESCRIPTION:MATTHEW FRANCIS ANDERSEN is a Chicago native. His experience as a fishing guide in the northwoods allows him to seamlessly bridge the traffic and taverns of the city with the pines and prairies of the open Midwest. Matthew is currently touring in support of his cd Blue Line. He is the winner of American Songwriter Magazine’s 2012 lyric contest. \n“Matthew Francis Andersen’s music is reminiscent of Steve Earle\, John Prine\, and Springsteen. He’s a tremendous writer\, bridging Chicago with the Northwoods. I really dig what he’s doing.” – Nick Digilio\, WGN Radio\, 720am\, Chicago \n“Matthew Francis Andersen is a consummate craftsmen. His song “Blue Line” proves he has a poet’s eye for detail\, a trait that separates good writers from legions of hacks.” Caine O’Rear\, Editor-In-Chief\, American Songwriter Magazine. \nJOSH HARTY is a singer/ songwriter originally from Fargo\, ND\, though now he calls Madison home. He grew up singing and later playing guitar with his dad from the age of 6\, touring the Midwest performing at senior centers\, churches and small-town festivals. These days he still spends most of the year on the road\, touring throughout the US and Europe (spending less time in Wisconsin than he’d like). Currently working on his fourth solo album and planning more tours for 2016\, Harty shows no signs of slowing down. His live shows prove that good story telling combined with journeyman musicianship is as American as music gets. \n“A work of extreme intensity\, with beautiful voice\, warm and strong.”-Lonestar Times of Italy \n“There is a dignity to this music making that leaves us feeling enriched for the experience.” – John Davy\, No Depression \n.”Josh\, Josh – where have you been? We’ve been waiting for you”- Americana UK \n“There’s a tangible raw honesty evident in Josh Harty’s classy country-influenced songwriting.” -R2 Magazine\, UK \n“An honest voice and fingers that seem to catch fire.”-The Atlanta Music Guide\, Atlanta GA \n“….one of the brightest new things in the country blues genre.” “… a singer/songwriter prodigy. ”\nThe Guardian\, Nenagh\, County Tipperary Ireland \nPlease call to reserve. 920-563-9391
URL:https://cafecarpe.com/event/matthew-francis-andersen-josh-harty/
END:VEVENT
END:VCALENDAR