BEGIN:VCALENDAR
VERSION:2.0
PRODID:-//Cafe Carpe - ECPv6.15.17.1//NONSGML v1.0//EN
CALSCALE:GREGORIAN
METHOD:PUBLISH
X-ORIGINAL-URL:https://cafecarpe.com
X-WR-CALDESC:Events for Cafe Carpe
REFRESH-INTERVAL;VALUE=DURATION:PT1H
X-Robots-Tag:noindex
X-PUBLISHED-TTL:PT1H
BEGIN:VTIMEZONE
TZID:America/Chicago
BEGIN:DAYLIGHT
TZOFFSETFROM:-0600
TZOFFSETTO:-0500
TZNAME:CDT
DTSTART:20150308T080000
END:DAYLIGHT
BEGIN:STANDARD
TZOFFSETFROM:-0500
TZOFFSETTO:-0600
TZNAME:CST
DTSTART:20151101T070000
END:STANDARD
BEGIN:DAYLIGHT
TZOFFSETFROM:-0600
TZOFFSETTO:-0500
TZNAME:CDT
DTSTART:20160313T080000
END:DAYLIGHT
BEGIN:STANDARD
TZOFFSETFROM:-0500
TZOFFSETTO:-0600
TZNAME:CST
DTSTART:20161106T070000
END:STANDARD
BEGIN:DAYLIGHT
TZOFFSETFROM:-0600
TZOFFSETTO:-0500
TZNAME:CDT
DTSTART:20170312T080000
END:DAYLIGHT
BEGIN:STANDARD
TZOFFSETFROM:-0500
TZOFFSETTO:-0600
TZNAME:CST
DTSTART:20171105T070000
END:STANDARD
END:VTIMEZONE
BEGIN:VEVENT
DTSTART;TZID=America/Chicago:20160401T193000
DTEND;TZID=America/Chicago:20160401T220000
DTSTAMP:20260422T232724
CREATED:20160314T021330Z
LAST-MODIFIED:20160314T021330Z
UID:2783-1459539000-1459548000@cafecarpe.com
SUMMARY:OPEN STAGE
DESCRIPTION:We have been rotating the hosting of open stages.  (Hosting involves greeting participants\, managing the flow\,  and being encouraging.)  This week’s seasoned host will be Mark Prokop. \nThere isn’t much formality- just let him know that you wish to perform\, be prepared to do a 2 to 3 song rotation\, and be considerate and supportive of others as they perform their stuff. \nAnd enjoy yourselves.
URL:https://cafecarpe.com/event/open-stage-78/
END:VEVENT
BEGIN:VEVENT
DTSTART;TZID=America/Chicago:20160402T200000
DTEND;TZID=America/Chicago:20160402T220000
DTSTAMP:20260422T232724
CREATED:20160218T034113Z
LAST-MODIFIED:20160330T213606Z
UID:2756-1459627200-1459634400@cafecarpe.com
SUMMARY:KAREN JOHNSON
DESCRIPTION:KAREN JOHNSON started performing at the Café Carpe in 1998. She counts herself so very fortunate to have the opportunity to perform at such a wonderful place!   (aww.. Ed.) \nKaren retired early from her career as a 4th grade teacher.  She now enjoys many opportunities to visit her grown children and often prays in midwinter that the golf season starts really soon for her husband Dave.\nJoan Baez\, Nanci Griffith\, and Alison Krauss are just a few of her favorite artists. Listening to the Country Radio in her dad’s old Chevy truck sparked her love for old country songs of which a few find their way onto her song list. \nYou can preview her on these YouTube videos: \n \n \nPlease call to reserve.
URL:https://cafecarpe.com/event/karen-johnson-3/
END:VEVENT
BEGIN:VEVENT
DTSTART;TZID=America/Chicago:20160405T193000
DTEND;TZID=America/Chicago:20160405T220000
DTSTAMP:20260422T232724
CREATED:20160316T001328Z
LAST-MODIFIED:20160316T001415Z
UID:2785-1459884600-1459893600@cafecarpe.com
SUMMARY:THE SUITCASE JUNKET
DESCRIPTION:Don’t miss the amazing MATT LORENZ as the SUITCASE JUNKET. Vote early\, and relax with some extraordinary music before results are in. \nTHE SUITCASE JUNKET is a one-man tour de force out of Western Massachusetts. Matt has been road dogging for three years\, solo and with his band Rusty Belle\, touring with Chris Smithers\, David Wax Museum\, and Peter Mulvey.   \nRemember the first day you heard The Suitcase Junket…his songwriting is extraordinary… this is one of the most exciting records I’ve heard in years.” -Vin Scelsa of Idiot’s Delight on WFUV and Sirius/XM \n“Armed with vintage 1950s amps and a guitar he salvaged from a dumpster\, an old\, oversized suitcase he plays with his heel as a bass drum\, a baby shoe hitting a gas can\, a cook pot\, a circular saw blade and a box of bones and silverware for added percussion\, he let it rip! In my favorite session of the year\, The Suitcase Junket performs ‘Earth Apple’ from his latest album\, Make Time.” – Linda Fahey\, NPR’s Favorite Sessions of 2015 \nThe Suitcase Junket will release his Signature Sounds debut\, Dying Star\, on March 4th. The 7- song E.P. features five songs recorded during the making of Lorenz’s acclaimed 2015 album\, Make Time\, and two live tracks recorded at Northampton MA’s The Parlor Room. With Dying Star\, The Suitcase Junket is poised to make the jump from one of New England’s best-kept roots star secrets\, to a household name. \nArtist\, tinkerer\, tunesmith\, swamp Yankee\, Matt Lorenz is a one-man salvage specialist singing into the hollow of a Dumpster guitar\, slipping a broken bottleneck onto the slide finger\, railing on a box of twisted forks and bones\, rocking till every sound is ragged at its edges\, till the house is singing back. Then\, unplugging all the amps and letting one mountain ballad soar over the raw strings on that guitar.On top of all this is the ethereal edge of his overtone throat-singing. \nEvery night is a hard-driving\, blues-grinding\, throat-singing search-and-rescue junket. Sooner or later everything rusts\, busts\, and gets tossed into the junk heap: iron\, bones\, leather\, hot rods\, muskrats\, the night\, the heart. The goal is to recover it. To waste nothing. To create new ways from old. This is The Suitcase Junket. \nMatt Lorenz was raised in Cavendish\, Vermont\, the son of teachers. He learned to sing by copying his sister Kate. (The siblings are two-thirds of the touring trio Rusty Belle.) Lorenz graduated from Hampshire College in Amherst\, Massachusetts\, in 2004\, having taught himself to throat-sing thanks to a South Indian cooking class. On moving day\, he pulled his guitar\, filled with mold and worse for wear\, from a dorm Dumpster. He fixed it up and started pulling songs out of it. That was the beginning. \nThe Suitcase Junket is filling rooms and drawing festival crowds all over his native New England and beyond\, from Signal Kitchen near the Canadian border to Wisconsin’s Mile of Music Festival\, from Ireland’s pubs to Mountain Jam in the Catskills\, from opening nights for Lake Street Dive and Charlie Musselwhite to Mountain Stage in West Virginia. He caught the attention of National Public Radio who chose his video session for “Earth Apple” from his 2015 album Make Time as one of the year’s favorite sessions. \nMatt has self-released three albums prior to Dying Star: Sever and Lift (2009) and Knock It Down. (2011) and Make Time (2015). \n“Make Time truly travels to various destinations of musical fortitude and emotion[…]It’s one hell of a ride that holds its resonance well after the record has stopped spinning.” – No Depression. \n“If croons could kill\, this one-man band would be a bounty hunter. Armed with a unique\, self-sufficient approach to raw instrumentation\, The Suitcase Junket is an artisan of song\, bending\, forging and sharpening each piece into an emotional tool.” -Performer Magazine. \nPlease call to reserve. 
URL:https://cafecarpe.com/event/the-suitcase-junket-2/
END:VEVENT
BEGIN:VEVENT
DTSTART;TZID=America/Chicago:20160408T200000
DTEND;TZID=America/Chicago:20160408T223000
DTSTAMP:20260422T232724
CREATED:20160212T175404Z
LAST-MODIFIED:20160406T205816Z
UID:2751-1460145600-1460154600@cafecarpe.com
SUMMARY:TRET FURE
DESCRIPTION:TRET FURE‘s career spans 4 decades. She began her professional work at the age of 16\, singing in coffeehouses and campuses in the Midwest\, moving to Berkeley where\, after performing weekly on the campus of UC Berkeley where she attended college\, she discovered that music really was her life. At 19\, she moved to LA to pursue a songwriting and musical career. Within a year she was performing as guitarist and vocalist for Spencer Davis\, touring with him and penning the single for his album “Mousetrap”. She went on to record her own album in 1973 on MCA/UNI Records\, with the late Lowell George of Little Feat as her producer. With the success of that release\, she opened for such bands as Yes\, Poco\, and the J Geils Band. \nWhile recording her second album\, Tret became interested in sound engineering\, learning the trade and becoming one of the first women engineers in LA. Over the course of her career she has engineered and produced countless recordings by a variety of artists\, including her own work \nIn the early 80s\, Tret left the mainstream music industry. Armed with a fierce desire to retain full artistic control\, she began exploring the independent side of the industry and soon discovered the blossoming genre known as Women’s Music. She has been a major player in that field ever since\, recording with and producing some of the best of women’s music including the legendary “Meg and Cris at Carnegie Hall”. She worked as a duo with Cris Williamson throughout the 90s releasing 3 CDs together during those years. \nNow after 6 acoustic releases on her own label\, Tomboy girl Records\, she has re-established herself in the folk world winning the 2004 South Florida Folk Festival Singer/Songwriter Competition in 2 out of 3 categories. 2004 also brought her recognition with the prestigious Jane Schliessman Award for Outstanding Contributions to Women’s Music. And in 2009\, she received the Janine C Rae Award for her work in Women’s Music. 2009 also found her voted “Pride In The Arts Favorite Female/Lesbian Musician”. And Tret’s last CD\, ‘The Horizon’\, finished in the top 20 CDs for 2011 in the Outvoice Charts\,. Her new release “A Piece of the Sky” continues her tradition of outstanding songwriting! \nFure also markets her own line of clothing named after her popular song\, “Tomboy girl”. In addition\, while not on the road\, Tret teaches guitar and songwriting individually and in workshop settings. An accomplished cook\, Fure has also published a cookbook\, Tret’s Kitchen\, featuring her own recipes. Along with bridging the marketing\, production\, and music worlds\, Tret serves as President of Local 1000\, The Traveling Musicians Association–a union geared toward helping traveling musicians find security and longevity. \nTret has just released her new CD Rembrandt Afternoons. \nAs always\, please call to reserve seats.
URL:https://cafecarpe.com/event/tret-fure-2/
END:VEVENT
BEGIN:VEVENT
DTSTART;TZID=America/Chicago:20160409T203000
DTEND;TZID=America/Chicago:20160409T230000
DTSTAMP:20260422T232724
CREATED:20160223T163138Z
LAST-MODIFIED:20160406T202442Z
UID:2764-1460233800-1460242800@cafecarpe.com
SUMMARY:HANNAH FRANK and VICTOR SANDERS
DESCRIPTION:Hannah and Victor make their debut appearance here.  Give them a whirl- Soulful rock kisses raw blues with country charm and rootsy lips…full of lyrics\, storytelling and quiet power. \nVICTOR SANDERS\, whose playing will leave you wide-eyed and slack-jawed\, is an electric guitarist whose ambient tones are otherworldly. He teams up with HANNAH FRANK\, songwriter of “surreal” folk songs with vivid imagery and storytelling. Her clear voice reminiscent of Bonnie Raitt or a young Aretha. This is a rare chance to see Hannah and Victor as a duo. Although they’ve been performing for over five years\, you usually see them as part of Hannah Frank Group in Chicago. \nPlease call to reserve. \n 
URL:https://cafecarpe.com/event/hannah-frank-w-victor-sanders/
END:VEVENT
BEGIN:VEVENT
DTSTART;TZID=America/Chicago:20160414T190000
DTEND;TZID=America/Chicago:20160414T213000
DTSTAMP:20260422T232724
CREATED:20160131T191129Z
LAST-MODIFIED:20160131T191300Z
UID:2734-1460660400-1460669400@cafecarpe.com
SUMMARY:NEW PIONEERS
DESCRIPTION:This five piece bluegrass ball of fire featuring vocals\, banjo\, fiddle\, guitar\, bass and mandolin appears here regularly on the 2nd Thursday of the month. Its various members have been involved with traditional music locally\, regionally\, and nationally for many years. \nThe Pioneer’s lead singer and guitarist\, Jerry Wicentowski\, has been described by country music historian Bill Malone as “One of the finest singers in bluegrass music”. Jerry has also performed and recorded with such bluegrass greats as Tim O’Brien\, Andy Statman\, Byron Berline\, Tony Trischka and others. Mike Schmidt of Spring Green\, Wisconsin\, is the group’s banjo player. This former French horn player has been a Nashville session musician and member of the popular Wisconsin-based bluegrass bands\, Alive ‘n’ Pickin’ and the Piper Road Spring Band. He also performs occasionally with his wife Lori. Bruce King of Art Stevenson and High Water – also formerly of Alive ‘n’ Pickin’ – is on mandolin. Bruce and Mike are veterans of the Great Northern Bluegrass Festival in Mole Lake\, WI – performing there every year from 1977 to 1982. Fiddle player Paul Kienitz is a member in good standing of regional bluegrass favorites\, The Nob Hill Boys. Bass player John Jirak also has played banjo with various folks in the northeastern WI and Madison areas\, most notably with the Green Bay based Fox River Flyer. As a bass player\, he’s performed shows with the Chicago Bluegrass Band\, Miltown Ramblers\, Krause Family\, Old Cool\, Spare Time Bluegrass Band\, Bob Steeno and The Old Truck\, and Down From the Hills\, and currently Madison’s newest\, Kettle Moraine. \nLike them on Facebook.
URL:https://cafecarpe.com/event/new-pioneers-29/
END:VEVENT
BEGIN:VEVENT
DTSTART;TZID=America/Chicago:20160415T193000
DTEND;TZID=America/Chicago:20160415T223000
DTSTAMP:20260422T232724
CREATED:20160401T212511Z
LAST-MODIFIED:20160403T002144Z
UID:2817-1460748600-1460759400@cafecarpe.com
SUMMARY:THOMAS MCGOREY- Fort Hospital Foundation Benefit
DESCRIPTION:THOMAS MCGOREY will perform in “A Tribute to Glenn Frey: Music of the Eagles and Friends” featuring acoustic versions of many of the most popular songs recorded and performed by the Eagles over their 40+ year career (minus their 14 year hiatus from 1980-94)\, along with a selection of songs from the solo careers of Glenn Frey\, Don Henley and Joe Walsh and a few from “friends” and collaborators of the band\, like JD Souther\, Jackson Browne and Bob Seger. The songs will be woven together amidst a chronological tale of the history of Glenn Frey and his music\, from his early days in Detroit\, to his formation of the Eagles in Southern California in 1972\, through his solo career of the 1980s and early ’90s and the reunion and resurgence of the Eagles in 1994\, until his untimely death in January 2016. \nAny free-will donations will go the FORT MEMORIAL HOSPITAL FOUNDATION. \nPlease call to reserve. \n  \n 
URL:https://cafecarpe.com/event/thomas-mcgorey-fort-hospital-foundation-benefit/
END:VEVENT
BEGIN:VEVENT
DTSTART;TZID=America/Chicago:20160416T203000
DTEND;TZID=America/Chicago:20160416T230000
DTSTAMP:20260422T232724
CREATED:20160221T034107Z
LAST-MODIFIED:20160406T210527Z
UID:2759-1460838600-1460847600@cafecarpe.com
SUMMARY:KAIA FOWLER/ PETE JONSSON
DESCRIPTION:KAIA FOWLER’s music is a cross-blend of folk\, blues\, rock and Americana. Through supple\, strong vocals and guitar work that ranges from delicate finger style to rhythmic strumming\, Kaia shares songs that explore life’s longings\, struggles and celebrations. Rooted in nature\, Kaia’s songs resonate with strength and vulnerability\, seeking to bring light even when approaching some of the darkest moments in life. \nPerforming at folk clubs\, house concerts and venues that include the Cafe’ Carpe in Fort Atkinson\, Wisconsin and Froth House in Madison\, Kaia shares originals and select covers that include songs by John Prine\, Patty Griffin\, Tracy Chapman and Susan Tedeschi. Kaia’s songwriting has been compared to Joni Mitchell’s for its lyrical metaphors\, rich melodies and creative harmonies. \nKaia released her first album\, Seams of My Heart in 2010. With Kaia on guitar and vocals\, the album also features Randy Sabien on violin and mandolin\, Paul Bast on dobro\, Sam Steffke on piano\, and Jeremy Reutebuch on percussion. \nFrom the Americana Gazette album review: “Each song is very well written\, with a true authenticity of life. You can picture yourself or someone you know in each story line.” He continues\, “Fowler is a tremendous lyricist. Her lyrics paint pictures and her musical notes add the color…” (Aug.-Sept. 2010 issue) \nFollowing the release of Seams of My Heart\, Kaia was invited to play her song “Who Are You?” as a guest at Michelle Shocked’s concert at the High Noon Saloon in Madison\, Wisconsin. Singles from the debut album received airplay on Women of Substance online radio. \nA new EP album\, All The Way\, was released October 3\, 2015 to benefit the Pancreatic Cancer Action Network\, in memory of Kaia’s husband Scott R. Jaeger who died of pancreatic cancer at the age of 44 in July\, 2013. Samples of the album are available at soundcloud.com/kaiafowler. \nPETE JONSSON is a fine guitar player and singer with an interesting repertoire of Americana tunes. He was one of the members of the beloved trio Live Bait. Pete has made excellent use of his early retirement to submerge himself in his music. \nPlease call to reserve.
URL:https://cafecarpe.com/event/kaia-fowler-pete-jonsson/
END:VEVENT
BEGIN:VEVENT
DTSTART;TZID=America/Chicago:20160421T190000
DTEND;TZID=America/Chicago:20160421T210000
DTSTAMP:20260422T232724
CREATED:20160321T191112Z
LAST-MODIFIED:20160420T173444Z
UID:2794-1461265200-1461272400@cafecarpe.com
SUMMARY:ROUND ROBIN SONG CIRCLE w/ TRICIA ALEXANDER
DESCRIPTION:Round robin song circle led by TRICIA ALEXANDER– done informally\, not from the stage\, no microphones. This is a lovely gathering of singers\, songwriters\, musicians and music appreciators! \nTraditional Round Robin protocol applies – everyone is part of the circle and has an opportunity to: play\, pass or request a song from someone in particular or from anyone in the circle. \nEveryone is welcome to attend. $5 cover for musicians and audience. Come early and have a bite to eat- \nTricia says\, “Last month brought some new faces and some new styles of music. These have all been SO MUCH fun . . . hope to see you there.”
URL:https://cafecarpe.com/event/round-robin-song-circle-w-tricia-alexander-2/
END:VEVENT
BEGIN:VEVENT
DTSTART;TZID=America/Chicago:20160422T203000
DTEND;TZID=America/Chicago:20160422T230000
DTSTAMP:20260422T232724
CREATED:20160325T154617Z
LAST-MODIFIED:20160325T213538Z
UID:2802-1461357000-1461366000@cafecarpe.com
SUMMARY:CLIFF EBERHARDT w/special guest Louise Mosrie
DESCRIPTION:Always happy to have  CLIFF EBERHARDT return.  This time he brings along someone new- LOUISE MOSRIE. \nCliff knew by age seven that he was going to be a singer and songwriter. Growing up in Berwyn\, Pennsylvania\, he and his brothers sang together and their parents played instruments. His dad introduced him to the guitar and he quickly taught himself to play. Fortunate enough to live close to the Main Point (one of the best folk clubs on the East Coast)\, he cut his teeth listening to the likes of James Taylor\, Joni Mitchell\, Bruce Springsteen\, Howlin’ Wolf\, Muddy Waters\, Bonnie Raitt\, and Mississippi John Hurt — receiving an early and impressive tutorial in acoustic music. At the same time\, he was also listening to great pop songwriters like Cole Porter\, the Gershwins\, and Rodgers and Hart\, which explain his penchant for great melodies and clever lyrical twists. \n“Eberhardt is better than ever\, Steve McQueening his way into your heart at about ninety-eight miles an hour\, kicking ass with fresh insight and new ways to lament old yearnings.”\n—Philly Rock Guide – \n“Up and down the line\, as a writer\, guitarist\, performer\, and vocalist\, Eberhardt is the equal of any singer-songwriter in contemporary pop. With unequaled directness and with a stark\, raw presentation\, he carves out miniature masterpieces\, giving voice to life’s complexities and ambiguities.” —Berkshire Eagle \n“Melding pop\, rock\,and folk styles into a rich melange\, Eberhardt fits gracefully and solidly in the singer/songwriter niche.” —Seattle Weekly \n“Eberhardt approaches the guitar with stylistic eloquence\, with the hooks\, licks and grooves that could easily rank him among those who are singularly known as guitar virtuosos.” —Taconic Newspapers \n“Eberhardt is a superb singer\, with a vast credible range of emotions\, and a soulfulness that draws from rock and pop\, but also from the best folk ballad styles.” – The Boston Globe \nAt fifteen\, Cliff and his brother Geoff began touring as an acoustic duo\, playing the Eastern club circuit until Cliff turned twenty-one and moved to Carbondale\, Illinois. There he found space to develop his own voice within a vibrant and supportive music scene that included Shawn Colvin. After a couple of years there and a short stay in Colorado\, Cliff moved to New York in 1978. Because the clubs were great (the Bitter End\, the Speakeasy\, Kenny’s Castaway\, Folk City) and the company amazing (John Gorka\, Suzanne Vega\, Lucy Kaplansky\, Julie Gold\, Steve Forbert\, Christine Lavin\, and Shawn Colvin)\, New York was an ideal musician’s boot camp. Though he put in long hours as a taxi driver\, Cliff worked steadily on his music throughout the 80’s\, doing solo gigs and studio work\, and playing guitar on the road with Richie Havens\, Melanie and others. Singing advertising jingles for products like Coke\, Miller Beer and Chevrolet (“The Heartbeat of America” campaign) allowed him to devote more time to his songwriting. \nIn 1990 Cliff’s song “My Father’s Shoes\,” appeared on Windham Hill’s Legacy collection\, leading to a deal with the label. They released Cliff’s first album\, The Long Road (1990)\, a work featuring a duet with Richie Havens. The critical response to this debut was outstanding (The Philadelphia Inquirer called the album a “repeatedly astounding collection”). He followed with two more records on Windham Hill before releasing 12 Songs of Good and Evil (1997) on Red House Records\, which stemmed from a chance meeting with Red House founder Bob Feldman at John Gorka’s wedding. Cliff recorded two more albums before his critically acclaimed The High Above and the Down Below\, named the #5 album of 2007 by USA Today. Produced by legendary musician and Red House Records president Eric Peltoniemi\, it was recorded in Minneapolis with noted jazz players Gordy Johnson\, J. T. Bates and Rich Dworsky and was his first album after spending several years recovering from a car accident. \nWith a new lease on life and a fresh batch of songs\, Cliff embarked on what has turned out to be an artistic renaissance. Recorded in the Texas Hill Country\, Cliff’s 2009 album 500 Miles: The Blue Rock Sessions may be his finest to date. An intimate album of powerful originals and unique covers\, it features a reworking of his hit “The Long Road\,” a song made more poignant after nearly two decades of touring and recording. Long one of the most respected songwriters on the club scene\, his peers often mine his catalog for themselves. Cliff’s song “Memphis” was included on Cry Cry Cry\, an album of collaborative covers by the “folk supergroup” of the same name (comprised of Dar Williams\, Lucy Kaplansky and Richard Shindell). Other performers who have recorded his songs include Richie Havens\, Shawn Colvin\, Russ Taff and Buffy Sainte Marie. A collection of his songs has been published in The Cliff Eberhardt Songbook (Cherry Lane Publishing). \nIn 2011\, Cliff got a phone call from the Folger Theatre and Shakespeare Library in Washington DC. They had been listening to his song\, “That Kind of Love” along with director Aaron Posner and got the brilliant idea to hire Cliff to write original songs for the Shakespeare classic “The Taming of the Shrew”. It would be set in the old West – Deadwood style – and Cliff would be cast as the blind but wise old saloon singer bookending scenes with his poignant songs and guitar phrases. The play was a huge success and won much critical acclaim across town and 7 weeks of solid sold-out shows in the Spring of 2012.  In 2013\, Cliff was awarded a coveted Helen Hayes Award for Sound Design and the cast won for Best Ensemble. Some of the songs on Shrew Songs are from Cliff’s past work and some are brand new. The stripped down production enhances the immediate intimacy of Cliff’s songwriting. You don’t have to have seen the play to love this record! It’s available for sale now only through this website or at Cliff’s shows.  – See more at: http://www.cliffeberhardt.com/bio/#sthash.NsR1oSzy.dpuf \n“LOUISE MOSRIE may well be the brightest young folk-oriented artist to emerge from Nashville in many a year. On her second release her pure\, expressive voice delivers the songs with the perfect balance of expressiveness and direction. Better still\, the exquisite\, very low key production keeps Mosrie’s voice out front and shining. This is Mosrie with a few well chosen\, subtle accompanists. A pleasing aspect of this CD is its ideal mix of personal songs and songs outside of Mosrie’s own life\, such as song set in the Civil War and one about a young girl leaving home for the larger world in 1920 and coming to grief. In my book\, Mosrie’s song “Singing My Heart Out” alone is worth buying this CD.”– Rich Warren – WFMT-FM “Midnight Special” Chicago (Dec 7\, 2014) \nPLEASE CALL TO RESERVE.
URL:https://cafecarpe.com/event/cliff-eberhardt-wspecial-guest-louise-mosrie/
END:VEVENT
BEGIN:VEVENT
DTSTART;TZID=America/Chicago:20160423T203000
DTEND;TZID=America/Chicago:20160423T230000
DTSTAMP:20260422T232724
CREATED:20160131T191538Z
LAST-MODIFIED:20160419T225757Z
UID:2735-1461443400-1461452400@cafecarpe.com
SUMMARY:BILL CAMPLIN and the Conjunctive Itises
DESCRIPTION:The band got together with some gin and tonics the Sunday before this gig and they are going to be well\, prepared.   \n  \nVive la difference! \nPlease call to reserve.
URL:https://cafecarpe.com/event/bill-camplin-band-10/
END:VEVENT
BEGIN:VEVENT
DTSTART;TZID=America/Chicago:20160429T203000
DTEND;TZID=America/Chicago:20160429T230000
DTSTAMP:20260422T232724
CREATED:20160328T121154Z
LAST-MODIFIED:20160330T213049Z
UID:2808-1461961800-1461970800@cafecarpe.com
SUMMARY:JEFF MASON
DESCRIPTION:JEFF MASON has performed at the Carpe most recently with Perry Baird\, Tom Cook and Erica Flyte. He is a member of the Merry Horde\, and began his Carpe career accompanying Tricia Alexander and Alpha Stewart Jr. His experience ranges across bluegrass\, acoustic and electric blues\, folk\, rock\, and jazz. This will be his first time on the Carpe stage as a single act\, as he blends those styles and influences in an evening of improvisational fun and energy. His bluesy voice and unique playing style are engaging\, creative\, and a bit crazy at times. \nPlease call to reserve.
URL:https://cafecarpe.com/event/jeff-mason-2/
END:VEVENT
BEGIN:VEVENT
DTSTART;TZID=America/Chicago:20160430T203000
DTEND;TZID=America/Chicago:20160430T230000
DTSTAMP:20260422T232724
CREATED:20160201T192542Z
LAST-MODIFIED:20160420T185558Z
UID:2742-1462048200-1462057200@cafecarpe.com
SUMMARY:BIG BANG STRING THING
DESCRIPTION:BIG BANG STRING THING \nIt’s rare when the word acoustic conjures thoughts of music that can electrify the jump in your feet. Then again\, BBST is a rare group\, and an impressive collective of musical might. Energetic\, contagious\, and flat out fun\, BBST weaves a sizzling thread through multiple genres to deliver a tapestry of award-winning original music that defies one description\, yet\, connects with everyone. Perhaps that has a something to do with the fact that BBST is made up of veteran musicians who have toured\, recorded\, or shared the stage with Leo Kottke\, The String Cheese Incident\, Lyle Lovett\, The Smashing Pumpkins\, Darol Anger\, Mike Marshall\, John Hartford\, U2\, Asleep at the Wheel\, Garbage\, Willy Porter\, Riders in the Sky\, The Radiators\, David Grisman\, Alex DeGrassi\, Doc Watson\, Carrie Newcomer\, and Merl Saunders and the Rainforest Band to name a few. Or\, it could simply be that Big Bang String Thing knows how to craft a great sound. \nTHE BAND: \nBob Westfall (mandolin\, guitar\, vocals\, songwriting) has studied and worked with some of the top acoustic players in the country -Darol Anger\, Mike Marshall\, John Hartford\, and Alex DeGrassi. But\, while these influences are certainly evident\, Westfall’s songwriting are uniquely his own. An award-winning mandolinist\, Bob grew up in Texas and Minnesota\, and his style incorporates the best elements of storytelling with a hybrid jazz/pop/worldbeat/bluegrass feel. \nThe husband and wife team of Mary Gaines(bass) and Chris Wagoner (violin) provide the bottom and top of the BBST sound\, and have appeared in performance and on recordings with Westfall for over fifteen years. Gaines and Wagoner have similarly diverse backgrounds — formal classical training at the Univ. of WI\, jazz studies with the great bassist\, Richard Davis\, followed by years of performing and recording with jazz\, blues\, rock\, and folk artists and songwriters. \nPlease call to reserve.
URL:https://cafecarpe.com/event/big-bang-string-thing-5/
END:VEVENT
END:VCALENDAR