BEGIN:VCALENDAR
VERSION:2.0
PRODID:-//Cafe Carpe - ECPv6.15.17.1//NONSGML v1.0//EN
CALSCALE:GREGORIAN
METHOD:PUBLISH
X-ORIGINAL-URL:https://cafecarpe.com
X-WR-CALDESC:Events for Cafe Carpe
REFRESH-INTERVAL;VALUE=DURATION:PT1H
X-Robots-Tag:noindex
X-PUBLISHED-TTL:PT1H
BEGIN:VTIMEZONE
TZID:America/Chicago
BEGIN:DAYLIGHT
TZOFFSETFROM:-0600
TZOFFSETTO:-0500
TZNAME:CDT
DTSTART:20150308T080000
END:DAYLIGHT
BEGIN:STANDARD
TZOFFSETFROM:-0500
TZOFFSETTO:-0600
TZNAME:CST
DTSTART:20151101T070000
END:STANDARD
BEGIN:DAYLIGHT
TZOFFSETFROM:-0600
TZOFFSETTO:-0500
TZNAME:CDT
DTSTART:20160313T080000
END:DAYLIGHT
BEGIN:STANDARD
TZOFFSETFROM:-0500
TZOFFSETTO:-0600
TZNAME:CST
DTSTART:20161106T070000
END:STANDARD
BEGIN:DAYLIGHT
TZOFFSETFROM:-0600
TZOFFSETTO:-0500
TZNAME:CDT
DTSTART:20170312T080000
END:DAYLIGHT
BEGIN:STANDARD
TZOFFSETFROM:-0500
TZOFFSETTO:-0600
TZNAME:CST
DTSTART:20171105T070000
END:STANDARD
END:VTIMEZONE
BEGIN:VEVENT
DTSTART;TZID=America/Chicago:20160304T193000
DTEND;TZID=America/Chicago:20160304T220000
DTSTAMP:20260423T021428
CREATED:20160223T234306Z
LAST-MODIFIED:20160224T175922Z
UID:2765-1457119800-1457128800@cafecarpe.com
SUMMARY:OPEN STAGE
DESCRIPTION:Local singer-songwriter KAIA FOWLER will host this open stage. \nThere isn’t much formality- just let her know that you will want to perform\, then a 2 to 3 song rotation\, and the expectation of being considerate and supportive of others as they perform their stuff.
URL:https://cafecarpe.com/event/open-stage-77/
END:VEVENT
BEGIN:VEVENT
DTSTART;TZID=America/Chicago:20160305T203000
DTEND;TZID=America/Chicago:20160305T230000
DTSTAMP:20260423T021428
CREATED:20160131T185145Z
LAST-MODIFIED:20160229T230956Z
UID:2728-1457209800-1457218800@cafecarpe.com
SUMMARY:BILL CAMPLIN BAND
DESCRIPTION:PLEASE NOTE THAT– some time in the recent history this was listed as being on March 4. THAT WAS AN ERROR.  The correct date is Saturday March 5. \nplayin’ in the band- JASON KLAGSTAD BOB MUELLER ALPHA STEWART PAUL WEHRLEY \nPlease call to reserve.
URL:https://cafecarpe.com/event/bill-camplin-band-9/
END:VEVENT
BEGIN:VEVENT
DTSTART;TZID=America/Chicago:20160310T190000
DTEND;TZID=America/Chicago:20160310T213000
DTSTAMP:20260423T021428
CREATED:20160131T185238Z
LAST-MODIFIED:20160131T185332Z
UID:2729-1457636400-1457645400@cafecarpe.com
SUMMARY:NEW PIONEERS
DESCRIPTION:This five piece bluegrass ball of fire featuring vocals\, banjo\, fiddle\, guitar\, bass and mandolin appears here regularly on the 2nd Thursday of the month. Its various members have been involved with traditional music locally\, regionally\, and nationally for many years. \nThe Pioneer’s lead singer and guitarist\, Jerry Wicentowski\, has been described by country music historian Bill Malone as “One of the finest singers in bluegrass music”. Jerry has also performed and recorded with such bluegrass greats as Tim O’Brien\, Andy Statman\, Byron Berline\, Tony Trischka and others. Mike Schmidt of Spring Green\, Wisconsin\, is the group’s banjo player. This former French horn player has been a Nashville session musician and member of the popular Wisconsin-based bluegrass bands\, Alive ‘n’ Pickin’ and the Piper Road Spring Band. He also performs occasionally with his wife Lori. Bruce King of Art Stevenson and High Water – also formerly of Alive ‘n’ Pickin’ – is on mandolin. Bruce and Mike are veterans of the Great Northern Bluegrass Festival in Mole Lake\, WI – performing there every year from 1977 to 1982. Fiddle player Paul Kienitz is a member in good standing of regional bluegrass favorites\, The Nob Hill Boys. Bass player John Jirak also has played banjo with various folks in the northeastern WI and Madison areas\, most notably with the Green Bay based Fox River Flyer. As a bass player\, he’s performed shows with the Chicago Bluegrass Band\, Miltown Ramblers\, Krause Family\, Old Cool\, Spare Time Bluegrass Band\, Bob Steeno and The Old Truck\, and Down From the Hills\, and currently Madison’s newest\, Kettle Moraine. \nLike them on Facebook.
URL:https://cafecarpe.com/event/new-pioneers-28/
END:VEVENT
BEGIN:VEVENT
DTSTART;TZID=America/Chicago:20160317T190000
DTEND;TZID=America/Chicago:20160317T210000
DTSTAMP:20260423T021428
CREATED:20160223T160304Z
LAST-MODIFIED:20160317T165646Z
UID:2763-1458241200-1458248400@cafecarpe.com
SUMMARY:ROUND ROBIN SONG CIRCLE w/ TRICIA ALEXANDER
DESCRIPTION:Round robin song circle led by TRICIA ALEXANDER– done informally\, not from the stage\, no microphones. This is a lovely gathering of singers\, songwriters\, musicians and music appreciators! \nTraditional Round Robin protocol applies – everyone is part of the circle and has an opportunity to: play\, pass or request a song from someone in particular or from anyone in the circle. \nEveryone is welcome to attend. $5 cover for musicians and audience. Come early and have a bite to eat- \n 
URL:https://cafecarpe.com/event/round-robin-song-circle-w-tricia-alexander/
END:VEVENT
BEGIN:VEVENT
DTSTART;TZID=America/Chicago:20160318T203000
DTEND;TZID=America/Chicago:20160318T230000
DTSTAMP:20260423T021428
CREATED:20160221T222905Z
LAST-MODIFIED:20160224T180212Z
UID:2761-1458333000-1458342000@cafecarpe.com
SUMMARY:JILL & THE JAX/ THREE THIN DIMES
DESCRIPTION:Jill and the JAX:The JAX feature Jill Kessenich providing lead and harmony vocals\, and some more rhythm on mandolin and tambourizta (from her Bohemian roots). Steve (T-bone) Tesmer takes the lead solos on his kick-A Dobro™. Craig (Fizz-neck) Ficenec provides a solid bass line for all of us. He also amuses us with his tales of college garage band antics. Ben Knowles\, the newest member\, is our lead and rhythm guitarist\, and provides some lead and harmony vocals. Their repertoire is cosmic Americana\, shamelessly borrowing from Gram Parsons\, Gillian Welch\, John Prine\, Lucinda Williams\, Alison Krauss\, Patty Griffin\, Emmylou Harris…3 Thin Dimes:After two and a half years paying their dues at their weekly Paddy’s jam session\, 3 Thin Dimes is finally ready for prime time. Old Time\, Irish and Bluegrass\, featuring the one and only Chirps Smith on Fiddle\, as well as the above-mentioned Steve Tesmer and Ben Knowles.
URL:https://cafecarpe.com/event/jill-the-jax-three-thin-dimes/
END:VEVENT
BEGIN:VEVENT
DTSTART;TZID=America/Chicago:20160319T203000
DTEND;TZID=America/Chicago:20160319T230000
DTSTAMP:20260423T021428
CREATED:20160223T160113Z
LAST-MODIFIED:20160223T233224Z
UID:2762-1458419400-1458428400@cafecarpe.com
SUMMARY:THE BRIAR PICKERS
DESCRIPTION:The Briar Pickers are a violin/mandolin duet consisting of mandolinist Brian Ray and fiddler Paul Kienitz\, melding traditional Appalachian folk melodies with classical chamber music sensibilities. \nThis conversational paradigm is the thread woven through the coupling of old-time ‘rustic’ properties with the intrinsic chamber music approach; being that of constructed or made in a plain and simple fashion and a small number of performers\, with one performer to a part. Resulting is their self-dubbed “rustic chamber music”…a collage of sounds evoking imagery and emotions that take the players and audience on a journey together to different times and places. \nThe duet is enchanced to a quartet with the addition of special guest Starr Moss (guitar) who has recently wrapped up a three year tenure with Chicago’s Henhouse Prowlers and the superlative Jon Peik on bass and banjo. \nPlease call to reserve.
URL:https://cafecarpe.com/event/the-briar-pickers-2/
END:VEVENT
BEGIN:VEVENT
DTSTART;TZID=America/Chicago:20160325T203000
DTEND;TZID=America/Chicago:20160325T230000
DTSTAMP:20260423T021428
CREATED:20160131T190038Z
LAST-MODIFIED:20160131T191836Z
UID:2731-1458937800-1458946800@cafecarpe.com
SUMMARY:ERNIE HENDRICKSON
DESCRIPTION:Please call to reserve. \n“In today’s overly produced pop music market\, Ernie Hendrickson is a diamond in the rough; born of heart\, soul and grit.”\n– A. Owens www.4twk – international music \n“This inspiring artist defies categories by blending folk and country with rock and jazz”\n-Kim Wheeler\, Rockford Register Star  \n“Surely a cutting-edge singer/songwriter of tomorrow\, Ernie Hendrickson lives enough in the past to keep what Bob Dylan\, James Taylor and Kris Kristofferson have done alive and thriving for generations.”\n-Jim Hagerty\, Rock River Times  \n“His music easily justifies the mention of his name in the same context as\, dare-it-be-said\, genre power house Ryan Adams.”\nFady Khalil – Jambands.com \n“Dark and pretty songs. Ernie Hendrickson is finding a niche in the indie folk Americana segment. He is a storyteller like Harry Nilsson in a country mood.”\n– Hans Werksman\, Here Comes The Flood \n“Whether exploring tribal beats or graceful homegrown country hymnals\, E. Hendrickson stretches the song-writing pallet. He is drawing influences from Gram Parsons’ Burrito Brothers\, straight through the heart of the America’s Blues tradition.”\n– Martin Halo\, JamBase \nFor ERNIE HENDRICKSON\, the hill country is as much a state of mind as a physical locale\, as the deep but beautifully casual songs on his new One for the Dreamers eloquently remind us. In the hill country of Ernie’s imagination\, the high ground provides an elevated vantage point that enables his listeners to perceive how time can leave important matters unfinished\, or tie up loose ends with sometimes heartbreaking finality. Yet the hill country is\, of course\, a real place\, and where Ernie comes from. The Wisconsin native grew up in what’s called that state’s Driftless Area\, where Midwestern flatness gives way to a more rounded landscape\, so it’s natural that that he chose to record One for the Dreamers nestled among the neatly arranged hills of Middle Tennessee. \nRecorded at Lamplight Studios in rural Primm Springs\, Tenn.\, 2013’s One for the Dreamers was anchored by producer-drummer Chad Cromwell (Neil Young\, Mark Knopfler)\, songwriter-producer-bassist Kevin “Swine” Grantt (Brad Paisley\, Jamey Johnson\, Willie Nelson)\, and Pete Wasner (Vince Gill) on piano\, organ\, and wurlitzer. Special guests include legendary harmonica player Mickey Raphael (Willie Nelson\, Guy Clark)\, pianist Reese Wynans (Stevie Ray Vaughan\, Buddy Guy)\, and rising Americana singer-songwriter Lera Lynn on harmony vocals. \nThere’s a concordance of topography and emotion at work in the new record that comes out of Ernie’s life as a traveling musician and an intuitive record maker—Midwestern openness meets Nashville experience\, you could say. Like the great American singers and songwriters who have inspired him—performers such as Neil Young\, Jerry Garcia and Willie Nelson—Ernie seeks the light amidst the ever-present perils of darkness. \nBorn and raised in the Midwest\, Ernie Hendrickson grew up on a steady diet of Willie Nelson\, Bob Dylan\, Neil Young\, Cat Stevens\, and Jerry Garcia. These early heroes opened the gates to the deep well of American roots music which he continues to draw inspiration from. In 2007 he self-produced and released a highly acclaimed solo record\, Down the Road\, of which the Illinois Entertainer deemed “Groundbreaking” and pushed him straight onto the Midwest’s radar as an emerging singer-songwriter. Hendrickson set the talent bar high in the studio for this album with a cast of players that included the subtle and angelic backing vocals of his sister\, Kelly Hendrickson\, and the legendary harmonica player\, Howard Levy (Bela Fleck & The Flecktones\, Paul Simon)\, aligned with an all-star group of Chicago musicians. \nHendrickson’s second record\, Walking with Angels\, began with a chance meeting between Ernie and veteran producer Bo Ramsey (Greg Brown\, Lucinda Williams) in the spring of ’08 in Iowa City\, where Ernie was opening a show for an old friend of Bo’s\, Kevin Gordon. Even in early conversation\, the two agreed that there was a chemistry evolving that would only deepen once the sessions began. At Bo’s urging\, Ernie sang and played nearly all of the songs on the record with a live band which consisted of Bo\, Jon Penner on bass (Junior Brown\, Bo Ramsey)\, and Steve Hayes on drums (Greg Brown\, Bo Ramsey). This call was made by Bo to try and capture the energy of a great performance and the result could not have been better. All twelve songs on the record feel as though these four guys had been playing together for years. After adding legendary Chicago pedal steel player Brian Wilkie (Alison Krauss\, Pam Tillis) on several tracks\, Bob Black’s banjo (Bill Monroe)\, and taking a trip to Nashville to record keyboardist Kevin McKendree (Delbert McClinton)\, the record shines as a true testament to Hendrickson’s ripening powers as a songwriter. Radio promotion has taken the sophomore album’s success to a higher level on both AAA and Americana stations\, having spent over 25 weeks in the Top 20 on Roots Music Report’s Folk charts and in regular rotation at nearly 100 different stations across the country including Nashville’s award-winning WSM-AM The Legend. \n 
URL:https://cafecarpe.com/event/ernie-hendrickson-4/
END:VEVENT
BEGIN:VEVENT
DTSTART;TZID=America/Chicago:20160326T203000
DTEND;TZID=America/Chicago:20160326T230000
DTSTAMP:20260423T021428
CREATED:20160131T190959Z
LAST-MODIFIED:20160202T003735Z
UID:2733-1459024200-1459033200@cafecarpe.com
SUMMARY:LONESOME BILL CAMPLIN
DESCRIPTION:Bill has been an integral part of the Wisconsin acoustic music scene for many years both as a performer and as co-owner of the legendary Cafe Carpe in Fort Atkinson\, where one can get legendary’s disease. Bill is a strong guitarist with a beautiful tenor voice and he is noted for intensely emotional performances of both his original songs and his interpretations of others such as Bob Dylan.
URL:https://cafecarpe.com/event/lonesome-bill-camplin-10/
END:VEVENT
END:VCALENDAR