BEGIN:VCALENDAR
VERSION:2.0
PRODID:-//Cafe Carpe - ECPv6.15.17.1//NONSGML v1.0//EN
CALSCALE:GREGORIAN
METHOD:PUBLISH
X-WR-CALNAME:Cafe Carpe
X-ORIGINAL-URL:https://cafecarpe.com
X-WR-CALDESC:Events for Cafe Carpe
REFRESH-INTERVAL;VALUE=DURATION:PT1H
X-Robots-Tag:noindex
X-PUBLISHED-TTL:PT1H
BEGIN:VTIMEZONE
TZID:America/Chicago
BEGIN:DAYLIGHT
TZOFFSETFROM:-0600
TZOFFSETTO:-0500
TZNAME:CDT
DTSTART:20250309T080000
END:DAYLIGHT
BEGIN:STANDARD
TZOFFSETFROM:-0500
TZOFFSETTO:-0600
TZNAME:CST
DTSTART:20251102T070000
END:STANDARD
BEGIN:DAYLIGHT
TZOFFSETFROM:-0600
TZOFFSETTO:-0500
TZNAME:CDT
DTSTART:20260308T080000
END:DAYLIGHT
BEGIN:STANDARD
TZOFFSETFROM:-0500
TZOFFSETTO:-0600
TZNAME:CST
DTSTART:20261101T070000
END:STANDARD
BEGIN:DAYLIGHT
TZOFFSETFROM:-0600
TZOFFSETTO:-0500
TZNAME:CDT
DTSTART:20270314T080000
END:DAYLIGHT
BEGIN:STANDARD
TZOFFSETFROM:-0500
TZOFFSETTO:-0600
TZNAME:CST
DTSTART:20271107T070000
END:STANDARD
END:VTIMEZONE
BEGIN:VEVENT
DTSTART;TZID=America/Chicago:20260425T200000
DTEND;TZID=America/Chicago:20260425T200000
DTSTAMP:20260425T103440
CREATED:20260109T171131Z
LAST-MODIFIED:20260203T173209Z
UID:10421-1777147200-1777147200@cafecarpe.com
SUMMARY:MARK HEMBREE BAND
DESCRIPTION:MARK HEMBREE BAND \n\nMark Hembree -bass\, Michael Falk -banjo\, Starr Moss -guitar\, Paul Kienitz -fiddle\, Nicholas Vanhaute -mandolin\n\nIt’s straight-ahead\, traditional bluegrass: hot picking\, solid rhythm\, tight harmonies\, good humor\, and a wealth of great stories make for an enjoyable show anytime you see the Mark Hembree Band.\n\n\n\n      \n        \n      \n    \n\n\nAbout That Hembree\nMark Hembree started his music career in Wisconsin in the 1970s\, and before long he was hosting a live radio show from the Glenmore Opera House near Green Bay. After a couple of years in Denver with the Monroe Doctrine\, he returned to Wisconsin briefly before an audition at a local festival netted a job with Country Music Hall of Fame legend Bill Monroe\, the Father of Bluegrass Music. He became a Blue Grass Boy in 1979 and worked with Monroe for five years\, then was one of the founding members of the Nashville Bluegrass Band. While in Nashville he recorded with several well-known artists\, including the all-star band Dreadful Snakes (with Jerry Douglas\, Béla Fleck\, Roland White\, Blaine Sprouse\, and Pat Enright) and Peter Rowan (on the Grammy-nominated album “New Moon Rising”). He returned to Wisconsin in 1989\, played with local bluegrass groups the Rounders and Nob Hill Boys\, and Western swing bands the Western Box Turtles (including Asleep at the Wheel steel guitarist Eddie Rivers) and his own group\, the Best Westerns.\n\nAdditionally\, Hembree has appeared as a guest lecturer and instructor at various music workshops\, seminars\, and film presentations\, as well as in Bill Monroe tribute shows on “A Prairie Home Companion” and at North Carolina’s MerleFest (performing with Del McCoury\, Roland White\, Blake Williams\, Peter Rowan\, and Bobby Hicks). He also appears in the feature-length documentary film “Powerful: Bill Monroe Remembered\,” directed by Joe Gray and produced by the International Bluegrass Music Museum.\n\nThe Band\nAs experienced journeymen of the WI bluegrass scene\, Michael Falk\, Starr Moss\, ‘Nick’ Vanhaute\, Paul Kienitz (Bigtooth\, Squirrel Gravy\, Shauncey Ali Quartet\, New Pioneers\, Nob Hill Boys\, etc.)…you can count on solid back-up\, a unique blend of driving classics\, original songs and masterly instrumentals that support the bands sound.
URL:https://cafecarpe.com/event/mark-hembree-band-4/
END:VEVENT
END:VCALENDAR